BEGIN:VCALENDAR
VERSION:2.0
PRODID:-//Globe Trottin&#039; Kids - ECPv6.15.14//NONSGML v1.0//EN
CALSCALE:GREGORIAN
METHOD:PUBLISH
X-WR-CALNAME:Globe Trottin&#039; Kids
X-ORIGINAL-URL:https://www.globetrottinkids.com
X-WR-CALDESC:Events for Globe Trottin&#039; Kids
REFRESH-INTERVAL;VALUE=DURATION:PT1H
X-Robots-Tag:noindex
X-PUBLISHED-TTL:PT1H
BEGIN:VTIMEZONE
TZID:UTC
BEGIN:STANDARD
TZOFFSETFROM:+0000
TZOFFSETTO:+0000
TZNAME:UTC
DTSTART:20250101T000000
END:STANDARD
END:VTIMEZONE
BEGIN:VEVENT
DTSTART;VALUE=DATE:20260322
DTEND;VALUE=DATE:20260323
DTSTAMP:20260419T134548
CREATED:20180323T020149Z
LAST-MODIFIED:20260218T194839Z
UID:14772-1774137600-1774223999@www.globetrottinkids.com
SUMMARY:Earth Hour
DESCRIPTION:Earth Hour is an environmental campaign to bring awareness to the effects of climate change. People are encouraged to turn off lights in homes and business for one hour beginning at 8:30 p.m. local time. \nGet resources HERE.
URL:https://www.globetrottinkids.com/event/earth-hour/
CATEGORIES:Events
END:VEVENT
END:VCALENDAR