BEGIN:VCALENDAR
VERSION:2.0
PRODID:-//Globe Trottin&#039; Kids - ECPv6.15.14//NONSGML v1.0//EN
CALSCALE:GREGORIAN
METHOD:PUBLISH
X-ORIGINAL-URL:https://www.globetrottinkids.com
X-WR-CALDESC:Events for Globe Trottin&#039; Kids
REFRESH-INTERVAL;VALUE=DURATION:PT1H
X-Robots-Tag:noindex
X-PUBLISHED-TTL:PT1H
BEGIN:VTIMEZONE
TZID:UTC
BEGIN:STANDARD
TZOFFSETFROM:+0000
TZOFFSETTO:+0000
TZNAME:UTC
DTSTART:20250101T000000
END:STANDARD
END:VTIMEZONE
BEGIN:VEVENT
DTSTART;VALUE=DATE:20260217
DTEND;VALUE=DATE:20260218
DTSTAMP:20260421T222740
CREATED:20190103T063311Z
LAST-MODIFIED:20251209T002058Z
UID:16251-1771286400-1771372799@www.globetrottinkids.com
SUMMARY:Seollal
DESCRIPTION:Seollal\, the Korean Lunar New Year\, is one of Korea’s most important traditional holidays. It typically falls in late January or early February\, marking the beginning of the lunar calendar year. The celebration lasts three days\, including the day before and after Seollal. \n 
URL:https://www.globetrottinkids.com/event/seollal/
CATEGORIES:Holidays
END:VEVENT
END:VCALENDAR