BEGIN:VCALENDAR
VERSION:2.0
PRODID:-//Globe Trottin&#039; Kids - ECPv6.15.14//NONSGML v1.0//EN
CALSCALE:GREGORIAN
METHOD:PUBLISH
X-WR-CALNAME:Globe Trottin&#039; Kids
X-ORIGINAL-URL:https://www.globetrottinkids.com
X-WR-CALDESC:Events for Globe Trottin&#039; Kids
REFRESH-INTERVAL;VALUE=DURATION:PT1H
X-Robots-Tag:noindex
X-PUBLISHED-TTL:PT1H
BEGIN:VTIMEZONE
TZID:UTC
BEGIN:STANDARD
TZOFFSETFROM:+0000
TZOFFSETTO:+0000
TZNAME:UTC
DTSTART:20250101T000000
END:STANDARD
END:VTIMEZONE
BEGIN:VEVENT
DTSTART;VALUE=DATE:20260322
DTEND;VALUE=DATE:20260323
DTSTAMP:20260419T123225
CREATED:20180323T020104Z
LAST-MODIFIED:20260218T194957Z
UID:14769-1774137600-1774223999@www.globetrottinkids.com
SUMMARY:World Water Day
DESCRIPTION:World Water Day focuses on raising awareness about the importance of freshwater and advocating for the sustainable management of water resources. The day highlights the critical role water plays in various aspects of life\, from health and sanitation to agriculture and environmental preservation.
URL:https://www.globetrottinkids.com/event/world-water-day/
CATEGORIES:Events
END:VEVENT
END:VCALENDAR